BEGIN:VCALENDAR
VERSION:2.0
PRODID:-//Pastor Li - ECPv6.15.12.2//NONSGML v1.0//EN
CALSCALE:GREGORIAN
METHOD:PUBLISH
X-ORIGINAL-URL:https://www.pastorli.org
X-WR-CALDESC:Events for Pastor Li
REFRESH-INTERVAL;VALUE=DURATION:PT1H
X-Robots-Tag:noindex
X-PUBLISHED-TTL:PT1H
BEGIN:VTIMEZONE
TZID:UTC
BEGIN:STANDARD
TZOFFSETFROM:+0000
TZOFFSETTO:+0000
TZNAME:UTC
DTSTART:20240101T000000
END:STANDARD
END:VTIMEZONE
BEGIN:VEVENT
DTSTART;TZID=UTC:20250725T000000
DTEND;TZID=UTC:20250726T000000
DTSTAMP:20260423T033658
CREATED:20200909T040221Z
LAST-MODIFIED:20240826T064743Z
UID:2056-1753401600-1753488000@www.pastorli.org
SUMMARY:Excitement From A Quote About Charity
DESCRIPTION:Dear Mr. President\, There are too many states nowadays. Please\, eliminate three. P.S. I am not a crackpot. You don’t win friends with salad. I’m a Spalding Gray in a Rick Dees world. D’oh. A lifetime of working with nuclear power has left me with a healthy green glow…and left me as impotent as a Nevada boxing commissioner. No children have ever meddled with the Republican Party and lived to tell about it.
URL:https://www.pastorli.org/event/excitement-from-a-quote-about-charity-2/
LOCATION:San Diego Zoo\, San Diego\, 92101\, United States
CATEGORIES:Education,Vaccine
ATTACH;FMTTYPE=image/jpeg:https://www.pastorli.org/wp-content/uploads/2023/02/sw-post-7-min.jpg
ORGANIZER;CN="Sammy Sosa":MAILTO:baseball@hotmail.com
END:VEVENT
BEGIN:VEVENT
DTSTART;TZID=UTC:20250927T000000
DTEND;TZID=UTC:20250929T235900
DTSTAMP:20260423T033658
CREATED:20200909T040220Z
LAST-MODIFIED:20250215T020715Z
UID:2054-1758931200-1759190340@www.pastorli.org
SUMMARY:Excitement From A Quote About Charity
DESCRIPTION:What’s the point of going out? We’re just going to wind up back here anyway. I’m going to the back seat of my car\, with the woman I love\, and I won’t be back for ten minutes! And now\, in the spirit of the season: start shopping. And for every dollar of Krusty merchandise you buy\, I will be nice to a sick kid. For legal purposes\, sick kids may include hookers with a cold. The Internet King? I wonder if he could provide faster nudity… Yes! I am a citizen! Now which way to the welfare office? I’m kidding\, I’m kidding. I work\, I work.
URL:https://www.pastorli.org/event/excitement-from-a-quote-about-charity/
LOCATION:Winchester Mystery House\, San Jose\, 95128\, United States
CATEGORIES:Donation,Education
ATTACH;FMTTYPE=image/jpeg:https://www.pastorli.org/wp-content/uploads/2020/09/give-3.jpg
END:VEVENT
BEGIN:VEVENT
DTSTART;TZID=UTC:20250929T153000
DTEND;TZID=UTC:20251001T153000
DTSTAMP:20260423T033658
CREATED:20200909T040219Z
LAST-MODIFIED:20240826T065020Z
UID:2052-1759159800-1759332600@www.pastorli.org
SUMMARY:UK Will Have School Lesson
DESCRIPTION:Why do you think that she is a witch? He hasn’t got stuff all over him. Well\, I didn’t vote for you. A newt? Look\, my liege! I don’t want to talk to you no more\, you empty-headed animal food trough water! I fart in your general direction! Your mother was a hamster and your father smelt of elderberries! Now leave before I am forced to taunt you a second time!
URL:https://www.pastorli.org/event/uk-will-have-school-lesson/
LOCATION:Krispy Kreme\, St. Louis\, 63129
CATEGORIES:Children,Vaccine
ATTACH;FMTTYPE=image/jpeg:https://www.pastorli.org/wp-content/uploads/2022/12/sw-post-3-min.jpg
END:VEVENT
BEGIN:VEVENT
DTSTART;TZID=UTC:20251103T000000
DTEND;TZID=UTC:20251104T235900
DTSTAMP:20260423T033658
CREATED:20200909T040227Z
LAST-MODIFIED:20240826T064853Z
UID:2060-1762128000-1762300740@www.pastorli.org
SUMMARY:Use Hashtags To Support Online
DESCRIPTION:Well\, I got better. Ah\, now we see the violence inherent in the system! The swallow may fly south with the sun\, and the house martin or the plover may seek warmer climes in winter\, yet these are not strangers to our land. It’s only a model. It’s only a model.
URL:https://www.pastorli.org/event/use-hashtags-to-support-online/
LOCATION:Party Haus\, Los Angelos\, 90013\, United States
CATEGORIES:Children,Donation
ATTACH;FMTTYPE=image/jpeg:https://www.pastorli.org/wp-content/uploads/2020/09/give-5.jpg
ORGANIZER;CN="Famous Amos":MAILTO:cookies@aol.com
END:VEVENT
BEGIN:VEVENT
DTSTART;VALUE=DATE:20260201
DTEND;VALUE=DATE:20260204
DTSTAMP:20260423T033658
CREATED:20200909T040228Z
LAST-MODIFIED:20240826T064841Z
UID:2061-1769904000-1770163199@www.pastorli.org
SUMMARY:Help Charities Without Leaving Home
DESCRIPTION:Who’s that then? Shh! Knights\, I bid you welcome to your new home. Let us ride to Camelot! Ah\, now we see the violence inherent in the system! The Lady of the Lake\, her arm clad in the purest shimmering samite\, held aloft Excalibur from the bosom of the water\, signifying by divine providence that I\, Arthur\, was to carry Excalibur. That is why I am your king. Camelot!
URL:https://www.pastorli.org/event/help-charities-without-leaving-home-2/
LOCATION:Bamboo Fresh\, Lahaina\, 96761\, United States
CATEGORIES:Education
ATTACH;FMTTYPE=image/jpeg:https://www.pastorli.org/wp-content/uploads/2020/09/give16.jpg
END:VEVENT
BEGIN:VEVENT
DTSTART;TZID=UTC:20260404T000000
DTEND;TZID=UTC:20260417T235900
DTSTAMP:20260423T033658
CREATED:20200909T040219Z
LAST-MODIFIED:20251106T082609Z
UID:2053-1775260800-1776470340@www.pastorli.org
SUMMARY:University Revival Tour 2026 – Ignite the Campuses
DESCRIPTION:University Revival Tour 2026 – Ignite the Campuses \nJoin Pastor Li and the Soul Mandate team for a powerful university evangelism campaign across South Africa and Zimbabwe.This outreach focuses on awakening young people to their divine identity\, calling\, and destiny in Christ.Expect deep worship\, healing\, deliverance\, and empowerment to live boldly for God on campus and beyond.📖 Theme: “Arise and Shine — Isaiah 60:1”
URL:https://www.pastorli.org/event/university-revival-tour-2026-ignite-the-campuses/
LOCATION:Pretoria & Major Universities (South Africa & Zimbabwe)\, South Africa
CATEGORIES:Children,Helping
ATTACH;FMTTYPE=image/jpeg:https://www.pastorli.org/wp-content/uploads/2020/09/Professional-Bible-Study-Church-Revival-Prayer-Worship-And-Praise-Sunday-Service-Flyer-Worship-C-Made-with-PosterMyWall-6.jpg
END:VEVENT
END:VCALENDAR