BEGIN:VCALENDAR
VERSION:2.0
PRODID:-//Pastor Li - ECPv6.15.12.2//NONSGML v1.0//EN
CALSCALE:GREGORIAN
METHOD:PUBLISH
X-WR-CALNAME:Pastor Li
X-ORIGINAL-URL:https://www.pastorli.org
X-WR-CALDESC:Events for Pastor Li
REFRESH-INTERVAL;VALUE=DURATION:PT1H
X-Robots-Tag:noindex
X-PUBLISHED-TTL:PT1H
BEGIN:VTIMEZONE
TZID:UTC
BEGIN:STANDARD
TZOFFSETFROM:+0000
TZOFFSETTO:+0000
TZNAME:UTC
DTSTART:20240101T000000
END:STANDARD
END:VTIMEZONE
BEGIN:VEVENT
DTSTART;VALUE=DATE:20250630
DTEND;VALUE=DATE:20250705
DTSTAMP:20260423T040249
CREATED:20200909T040221Z
LAST-MODIFIED:20240826T064911Z
UID:2055-1751241600-1751673599@www.pastorli.org
SUMMARY:Help Charities Without Leaving Home
DESCRIPTION:I’ve done everything the Bible says — even the stuff that contradicts the other stuff! Our differences are only skin deep\, but our sames go down to the bone. And now\, in the spirit of the season: start shopping. And for every dollar of Krusty merchandise you buy\, I will be nice to a sick kid. For legal purposes\, sick kids may include hookers with a cold. And here I am using my own lungs like a sucker. What good is money if it can’t inspire terror in your fellow man? Homer no function beer well without.
URL:https://www.pastorli.org/event/help-charities-without-leaving-home/
LOCATION:Winchester Mystery House\, San Jose\, 95128\, United States
CATEGORIES:Education,Vaccine
ATTACH;FMTTYPE=image/jpeg:https://www.pastorli.org/wp-content/uploads/2020/09/vcn-post-2-min.jpg
ORGANIZER;CN="Barney Stinson":MAILTO:barney@legendary.com
END:VEVENT
BEGIN:VEVENT
DTSTART;VALUE=DATE:20250504
DTEND;VALUE=DATE:20250509
DTSTAMP:20260423T040249
CREATED:20200909T040225Z
LAST-MODIFIED:20240826T064808Z
UID:2057-1746316800-1746748799@www.pastorli.org
SUMMARY:Provide Pure Water And Fresh Food
DESCRIPTION:Oh God\, my uncle. How am I ever gonna explain this? The plans you refer to will soon be back in our hands. I suggest you try it again\, Luke. This time\, let go your conscious self and act on instinct. I want to come with you to Alderaan. There’s nothing for me here now. I want to learn the ways of the Force and be a Jedi\, like my father before me. As you wish. I don’t know what you’re talking about. I am a member of the Imperial Senate on a diplomatic mission to Alderaan–
URL:https://www.pastorli.org/event/provide-pure-water-and-fresh-food-fo/
LOCATION:The Corn Palace\, Mitchell\, 57301\, United States
CATEGORIES:Education,Vaccine
ATTACH;FMTTYPE=image/jpeg:https://www.pastorli.org/wp-content/uploads/2017/07/sw-post-5-min.jpg
ORGANIZER;CN="Sammy Sosa":MAILTO:baseball@hotmail.com
END:VEVENT
END:VCALENDAR